BEGIN:VCALENDAR
VERSION:2.0
PRODID:-//clubinone//NONSGML clubinone.de iCalcreator 2.22.1//
METHOD:PUBLISH
BEGIN:VEVENT
UID:20260420T142720-69e61ba87488a@engadin.cio.golf
DTSTAMP:20260420T142720
DESCRIPTION:Zuoz-Madulain: Migros Golf Challange 2026:\nEinzel - 1\, 18-Löcher (vorgabewirksam)
DTSTART:20260705
DTEND:20260706
LOCATION:Engadine Golf Club
SUMMARY:Zuoz-Madulain: Migros Golf Challange 2026
END:VEVENT
END:VCALENDAR