BEGIN:VCALENDAR
VERSION:2.0
PRODID:-//clubinone//NONSGML clubinone.de iCalcreator 2.22.1//
METHOD:PUBLISH
BEGIN:VEVENT
UID:20260420T144001-69e61ea141f3c@engadin.cio.golf
DTSTAMP:20260420T144001
DESCRIPTION:Zuoz-Madulain: Migros GolfCard Trophy by Engadine Golf Club:\nEinzel - 1\, 18-Löcher (vorgabewirksam)
DTSTART:20260718
DTEND:20260719
LOCATION:Engadine Golf Club
SUMMARY:Zuoz-Madulain: Migros GolfCard Trophy by Engadine Golf Club
END:VEVENT
END:VCALENDAR